BEGIN:VCALENDAR
VERSION:2.0
PRODID:-//Madrasatu Ahlis Sunnah - ECPv6.15.20//NONSGML v1.0//EN
CALSCALE:GREGORIAN
METHOD:PUBLISH
X-ORIGINAL-URL:https://thesunnah.org/school
X-WR-CALDESC:Events for Madrasatu Ahlis Sunnah
REFRESH-INTERVAL;VALUE=DURATION:PT1H
X-Robots-Tag:noindex
X-PUBLISHED-TTL:PT1H
BEGIN:VTIMEZONE
TZID:America/New_York
BEGIN:DAYLIGHT
TZOFFSETFROM:-0500
TZOFFSETTO:-0400
TZNAME:EDT
DTSTART:20250309T070000
END:DAYLIGHT
BEGIN:STANDARD
TZOFFSETFROM:-0400
TZOFFSETTO:-0500
TZNAME:EST
DTSTART:20251102T060000
END:STANDARD
BEGIN:DAYLIGHT
TZOFFSETFROM:-0500
TZOFFSETTO:-0400
TZNAME:EDT
DTSTART:20260308T070000
END:DAYLIGHT
BEGIN:STANDARD
TZOFFSETFROM:-0400
TZOFFSETTO:-0500
TZNAME:EST
DTSTART:20261101T060000
END:STANDARD
BEGIN:DAYLIGHT
TZOFFSETFROM:-0500
TZOFFSETTO:-0400
TZNAME:EDT
DTSTART:20270314T070000
END:DAYLIGHT
BEGIN:STANDARD
TZOFFSETFROM:-0400
TZOFFSETTO:-0500
TZNAME:EST
DTSTART:20271107T060000
END:STANDARD
END:VTIMEZONE
BEGIN:VEVENT
DTSTART;VALUE=DATE:20260102
DTEND;VALUE=DATE:20260103
DTSTAMP:20260424T054124
CREATED:20250905T134336Z
LAST-MODIFIED:20250905T134336Z
UID:4904-1767312000-1767398399@thesunnah.org
SUMMARY:Return to School
DESCRIPTION:Students and Staff Return to School — Students and staff return refreshed and ready to continue the school year after the winter break.
URL:https://thesunnah.org/school/event/return-to-school-2/
LOCATION:School\, 215 North Oraton Pkwy\, East Orange\, NJ\, 07017\, United States
CATEGORIES:Calendar Dates
ORGANIZER;CN="Madrasatu Ahlis Sunnah":MAILTO:school@thesunnah.org
END:VEVENT
BEGIN:VEVENT
DTSTART;VALUE=DATE:20260122
DTEND;VALUE=DATE:20260123
DTSTAMP:20260424T054124
CREATED:20250904T222530Z
LAST-MODIFIED:20250904T222530Z
UID:4873-1769040000-1769126399@thesunnah.org
SUMMARY:End 2nd Marking Period
DESCRIPTION:End 2nd Marking Period (92nd Day of School): The second grading period concludes today. Students finalize assignments and assessments as we approach the midpoint of the school year.
URL:https://thesunnah.org/school/event/end-2nd-marking-period/
LOCATION:School\, 215 North Oraton Pkwy\, East Orange\, NJ\, 07017\, United States
CATEGORIES:Calendar Dates
ATTACH;FMTTYPE=image/jpeg:https://thesunnah.org/school/wp-content/uploads/2024/09/End-of-Marking-Period.jpg
ORGANIZER;CN="Madrasatu Ahlis Sunnah":MAILTO:school@thesunnah.org
END:VEVENT
BEGIN:VEVENT
DTSTART;VALUE=DATE:20260123
DTEND;VALUE=DATE:20260124
DTSTAMP:20260424T054124
CREATED:20250904T222956Z
LAST-MODIFIED:20250904T223017Z
UID:4881-1769126400-1769212799@thesunnah.org
SUMMARY:Begin 3rd Marking Period
DESCRIPTION:Begin 3rd Marking Period — The third grading period starts today. Students begin new assignments and continue working toward their academic goals.
URL:https://thesunnah.org/school/event/begin-3rd-marking-period/
LOCATION:School\, 215 North Oraton Pkwy\, East Orange\, NJ\, 07017\, United States
CATEGORIES:Calendar Dates
ATTACH;FMTTYPE=image/jpeg:https://thesunnah.org/school/wp-content/uploads/2025/09/Begin-of-Marking-Period.jpg
ORGANIZER;CN="Madrasatu Ahlis Sunnah":MAILTO:school@thesunnah.org
END:VEVENT
BEGIN:VEVENT
DTSTART;VALUE=DATE:20260130
DTEND;VALUE=DATE:20260131
DTSTAMP:20260424T054124
CREATED:20250902T180656Z
LAST-MODIFIED:20250905T135051Z
UID:4727-1769731200-1769817599@thesunnah.org
SUMMARY:Open House #5
DESCRIPTION:Open House # 5: 2nd Marking Period Report Cards. Join us to review student progress\, meet with teachers\, and discuss goals for the remainder of the marking period.
URL:https://thesunnah.org/school/event/open-house-5/
LOCATION:School\, 215 North Oraton Pkwy\, East Orange\, NJ\, 07017\, United States
CATEGORIES:Calendar Dates
ATTACH;FMTTYPE=image/jpeg:https://thesunnah.org/school/wp-content/uploads/2025/09/Open-House.jpg
ORGANIZER;CN="Madrasatu Ahlis Sunnah":MAILTO:school@thesunnah.org
END:VEVENT
END:VCALENDAR