BEGIN:VCALENDAR
VERSION:2.0
PRODID:-//Madrasatu Ahlis Sunnah - ECPv6.15.20//NONSGML v1.0//EN
CALSCALE:GREGORIAN
METHOD:PUBLISH
X-WR-CALNAME:Madrasatu Ahlis Sunnah
X-ORIGINAL-URL:https://thesunnah.org/school
X-WR-CALDESC:Events for Madrasatu Ahlis Sunnah
REFRESH-INTERVAL;VALUE=DURATION:PT1H
X-Robots-Tag:noindex
X-PUBLISHED-TTL:PT1H
BEGIN:VTIMEZONE
TZID:America/New_York
BEGIN:DAYLIGHT
TZOFFSETFROM:-0500
TZOFFSETTO:-0400
TZNAME:EDT
DTSTART:20250309T070000
END:DAYLIGHT
BEGIN:STANDARD
TZOFFSETFROM:-0400
TZOFFSETTO:-0500
TZNAME:EST
DTSTART:20251102T060000
END:STANDARD
BEGIN:DAYLIGHT
TZOFFSETFROM:-0500
TZOFFSETTO:-0400
TZNAME:EDT
DTSTART:20260308T070000
END:DAYLIGHT
BEGIN:STANDARD
TZOFFSETFROM:-0400
TZOFFSETTO:-0500
TZNAME:EST
DTSTART:20261101T060000
END:STANDARD
BEGIN:DAYLIGHT
TZOFFSETFROM:-0500
TZOFFSETTO:-0400
TZNAME:EDT
DTSTART:20270314T070000
END:DAYLIGHT
BEGIN:STANDARD
TZOFFSETFROM:-0400
TZOFFSETTO:-0500
TZNAME:EST
DTSTART:20271107T060000
END:STANDARD
END:VTIMEZONE
BEGIN:VEVENT
DTSTART;VALUE=DATE:20260203
DTEND;VALUE=DATE:20260204
DTSTAMP:20260424T042100
CREATED:20250904T162401Z
LAST-MODIFIED:20250904T221622Z
UID:4208-1770076800-1770163199@thesunnah.org
SUMMARY:100th Day of School
DESCRIPTION:100th Day of School — Join us as we celebrate 100 days of learning\, growth\, and achievements! Parents and community members are encouraged to attend and share in the celebration.
URL:https://thesunnah.org/school/event/100th-day-of-school/
LOCATION:School\, 215 North Oraton Pkwy\, East Orange\, NJ\, 07017\, United States
CATEGORIES:Calendar Dates
ATTACH;FMTTYPE=image/jpeg:https://thesunnah.org/school/wp-content/uploads/2025/09/100th-Day-of-School.jpg
ORGANIZER;CN="Madrasatu Ahlis Sunnah":MAILTO:school@thesunnah.org
END:VEVENT
BEGIN:VEVENT
DTSTART;VALUE=DATE:20260204
DTEND;VALUE=DATE:20260205
DTSTAMP:20260424T042100
CREATED:20250902T184450Z
LAST-MODIFIED:20250902T184450Z
UID:4747-1770163200-1770249599@thesunnah.org
SUMMARY:Field Trip #3
DESCRIPTION:Field Trip #3
URL:https://thesunnah.org/school/event/field-trip-3/
LOCATION:NJ
CATEGORIES:Calendar Dates
ATTACH;FMTTYPE=image/jpeg:https://thesunnah.org/school/wp-content/uploads/2025/01/Muslims-students-getting-on-a-bus-1.jpg
ORGANIZER;CN="Madrasatu Ahlis Sunnah":MAILTO:school@thesunnah.org
END:VEVENT
BEGIN:VEVENT
DTSTART;VALUE=DATE:20260225
DTEND;VALUE=DATE:20260226
DTSTAMP:20260424T042100
CREATED:20250904T224525Z
LAST-MODIFIED:20250904T224545Z
UID:4893-1771977600-1772063999@thesunnah.org
SUMMARY:Middle 3rd Marking Period
DESCRIPTION:Middle 3rd Marking Period (115th Day of School) The halfway point of the third grading period. A great time for students to review progress\, stay on track\, and continue working toward their goals.
URL:https://thesunnah.org/school/event/middle-3rd-marking-period/
LOCATION:School\, 215 North Oraton Pkwy\, East Orange\, NJ\, 07017\, United States
CATEGORIES:Calendar Dates
ATTACH;FMTTYPE=image/jpeg:https://thesunnah.org/school/wp-content/uploads/2025/09/Middle-of-Marking-Period.jpg
ORGANIZER;CN="Madrasatu Ahlis Sunnah":MAILTO:school@thesunnah.org
END:VEVENT
BEGIN:VEVENT
DTSTART;VALUE=DATE:20260227
DTEND;VALUE=DATE:20260228
DTSTAMP:20260424T042100
CREATED:20250902T175634Z
LAST-MODIFIED:20250905T134812Z
UID:4726-1772150400-1772236799@thesunnah.org
SUMMARY:Open House #6
DESCRIPTION:Open House # 6: 3rd Marking Period Progress Reports. Join us to review student progress\, meet with teachers\, and discuss goals for the remainder of the marking period.
URL:https://thesunnah.org/school/event/open-house-6/
LOCATION:School\, 215 North Oraton Pkwy\, East Orange\, NJ\, 07017\, United States
CATEGORIES:Calendar Dates
ATTACH;FMTTYPE=image/jpeg:https://thesunnah.org/school/wp-content/uploads/2025/09/Open-House.jpg
ORGANIZER;CN="Madrasatu Ahlis Sunnah":MAILTO:school@thesunnah.org
END:VEVENT
END:VCALENDAR