BEGIN:VCALENDAR
VERSION:2.0
PRODID:-//Madrasatu Ahlis Sunnah - ECPv6.15.20//NONSGML v1.0//EN
CALSCALE:GREGORIAN
METHOD:PUBLISH
X-ORIGINAL-URL:https://thesunnah.org/school
X-WR-CALDESC:Events for Madrasatu Ahlis Sunnah
REFRESH-INTERVAL;VALUE=DURATION:PT1H
X-Robots-Tag:noindex
X-PUBLISHED-TTL:PT1H
BEGIN:VTIMEZONE
TZID:America/New_York
BEGIN:DAYLIGHT
TZOFFSETFROM:-0500
TZOFFSETTO:-0400
TZNAME:EDT
DTSTART:20250309T070000
END:DAYLIGHT
BEGIN:STANDARD
TZOFFSETFROM:-0400
TZOFFSETTO:-0500
TZNAME:EST
DTSTART:20251102T060000
END:STANDARD
BEGIN:DAYLIGHT
TZOFFSETFROM:-0500
TZOFFSETTO:-0400
TZNAME:EDT
DTSTART:20260308T070000
END:DAYLIGHT
BEGIN:STANDARD
TZOFFSETFROM:-0400
TZOFFSETTO:-0500
TZNAME:EST
DTSTART:20261101T060000
END:STANDARD
BEGIN:DAYLIGHT
TZOFFSETFROM:-0500
TZOFFSETTO:-0400
TZNAME:EDT
DTSTART:20270314T070000
END:DAYLIGHT
BEGIN:STANDARD
TZOFFSETFROM:-0400
TZOFFSETTO:-0500
TZNAME:EST
DTSTART:20271107T060000
END:STANDARD
END:VTIMEZONE
BEGIN:VEVENT
DTSTART;VALUE=DATE:20260323
DTEND;VALUE=DATE:20260324
DTSTAMP:20260422T093706
CREATED:20250905T140535Z
LAST-MODIFIED:20250905T140535Z
UID:4905-1774224000-1774310399@thesunnah.org
SUMMARY:Return to School
DESCRIPTION:Students and Staff Return to School from Ramadaan/Eid Al-Fitr Break — Welcome back! Our school community returns refreshed after the holiday\, ready to continue learning and growing together.
URL:https://thesunnah.org/school/event/return-to-school-3/
LOCATION:School\, 215 North Oraton Pkwy\, East Orange\, NJ\, 07017\, United States
CATEGORIES:Calendar Dates
ORGANIZER;CN="Madrasatu Ahlis Sunnah":MAILTO:school@thesunnah.org
END:VEVENT
END:VCALENDAR