BEGIN:VCALENDAR
VERSION:2.0
PRODID:-//Madrasatu Ahlis Sunnah - ECPv6.15.20//NONSGML v1.0//EN
CALSCALE:GREGORIAN
METHOD:PUBLISH
X-WR-CALNAME:Madrasatu Ahlis Sunnah
X-ORIGINAL-URL:https://thesunnah.org/school
X-WR-CALDESC:Events for Madrasatu Ahlis Sunnah
REFRESH-INTERVAL;VALUE=DURATION:PT1H
X-Robots-Tag:noindex
X-PUBLISHED-TTL:PT1H
BEGIN:VTIMEZONE
TZID:America/New_York
BEGIN:DAYLIGHT
TZOFFSETFROM:-0500
TZOFFSETTO:-0400
TZNAME:EDT
DTSTART:20250309T070000
END:DAYLIGHT
BEGIN:STANDARD
TZOFFSETFROM:-0400
TZOFFSETTO:-0500
TZNAME:EST
DTSTART:20251102T060000
END:STANDARD
BEGIN:DAYLIGHT
TZOFFSETFROM:-0500
TZOFFSETTO:-0400
TZNAME:EDT
DTSTART:20260308T070000
END:DAYLIGHT
BEGIN:STANDARD
TZOFFSETFROM:-0400
TZOFFSETTO:-0500
TZNAME:EST
DTSTART:20261101T060000
END:STANDARD
BEGIN:DAYLIGHT
TZOFFSETFROM:-0500
TZOFFSETTO:-0400
TZNAME:EDT
DTSTART:20270314T070000
END:DAYLIGHT
BEGIN:STANDARD
TZOFFSETFROM:-0400
TZOFFSETTO:-0500
TZNAME:EST
DTSTART:20271107T060000
END:STANDARD
END:VTIMEZONE
BEGIN:VEVENT
DTSTART;VALUE=DATE:20260414
DTEND;VALUE=DATE:20260415
DTSTAMP:20260422T094806
CREATED:20250905T135422Z
LAST-MODIFIED:20250905T135422Z
UID:4912-1776124800-1776211199@thesunnah.org
SUMMARY:Begin 4th Marking Period
DESCRIPTION:Begin 4th Marking Period — The final grading period of the school year starts today. Students begin new assignments and work toward finishing the year strong.
URL:https://thesunnah.org/school/event/begin-4th-marking-period/
LOCATION:School\, 215 North Oraton Pkwy\, East Orange\, NJ\, 07017\, United States
CATEGORIES:Calendar Dates
ATTACH;FMTTYPE=image/jpeg:https://thesunnah.org/school/wp-content/uploads/2025/09/Begin-of-Marking-Period.jpg
ORGANIZER;CN="Madrasatu Ahlis Sunnah":MAILTO:school@thesunnah.org
END:VEVENT
END:VCALENDAR