BEGIN:VCALENDAR
VERSION:2.0
PRODID:-//Madrasatu Ahlis Sunnah - ECPv6.15.20//NONSGML v1.0//EN
CALSCALE:GREGORIAN
METHOD:PUBLISH
X-WR-CALNAME:Madrasatu Ahlis Sunnah
X-ORIGINAL-URL:https://thesunnah.org/school
X-WR-CALDESC:Events for Madrasatu Ahlis Sunnah
REFRESH-INTERVAL;VALUE=DURATION:PT1H
X-Robots-Tag:noindex
X-PUBLISHED-TTL:PT1H
BEGIN:VTIMEZONE
TZID:America/New_York
BEGIN:DAYLIGHT
TZOFFSETFROM:-0500
TZOFFSETTO:-0400
TZNAME:EDT
DTSTART:20240310T070000
END:DAYLIGHT
BEGIN:STANDARD
TZOFFSETFROM:-0400
TZOFFSETTO:-0500
TZNAME:EST
DTSTART:20241103T060000
END:STANDARD
BEGIN:DAYLIGHT
TZOFFSETFROM:-0500
TZOFFSETTO:-0400
TZNAME:EDT
DTSTART:20250309T070000
END:DAYLIGHT
BEGIN:STANDARD
TZOFFSETFROM:-0400
TZOFFSETTO:-0500
TZNAME:EST
DTSTART:20251102T060000
END:STANDARD
BEGIN:DAYLIGHT
TZOFFSETFROM:-0500
TZOFFSETTO:-0400
TZNAME:EDT
DTSTART:20260308T070000
END:DAYLIGHT
BEGIN:STANDARD
TZOFFSETFROM:-0400
TZOFFSETTO:-0500
TZNAME:EST
DTSTART:20261101T060000
END:STANDARD
BEGIN:DAYLIGHT
TZOFFSETFROM:-0500
TZOFFSETTO:-0400
TZNAME:EDT
DTSTART:20270314T070000
END:DAYLIGHT
BEGIN:STANDARD
TZOFFSETFROM:-0400
TZOFFSETTO:-0500
TZNAME:EST
DTSTART:20271107T060000
END:STANDARD
END:VTIMEZONE
BEGIN:VEVENT
DTSTART;VALUE=DATE:20260102
DTEND;VALUE=DATE:20260103
DTSTAMP:20260421T160400
CREATED:20250905T134336Z
LAST-MODIFIED:20250905T134336Z
UID:4904-1767312000-1767398399@thesunnah.org
SUMMARY:Return to School
DESCRIPTION:Students and Staff Return to School — Students and staff return refreshed and ready to continue the school year after the winter break.
URL:https://thesunnah.org/school/event/return-to-school-2/
LOCATION:School\, 215 North Oraton Pkwy\, East Orange\, NJ\, 07017\, United States
CATEGORIES:Calendar Dates
ORGANIZER;CN="Madrasatu Ahlis Sunnah":MAILTO:school@thesunnah.org
END:VEVENT
BEGIN:VEVENT
DTSTART;VALUE=DATE:20251219
DTEND;VALUE=DATE:20251220
DTSTAMP:20260421T160400
CREATED:20250902T181539Z
LAST-MODIFIED:20250904T224708Z
UID:4732-1766102400-1766188799@thesunnah.org
SUMMARY:Open House #4
DESCRIPTION:Open House # 4: 2nd Marking Period Progress Reports. Join us to meet teachers\, discuss student progress\, and learn about upcoming events and opportunities. Parents and community members are warmly invited to attend and engage with our school community!
URL:https://thesunnah.org/school/event/open-house-4/
LOCATION:School\, 215 North Oraton Pkwy\, East Orange\, NJ\, 07017\, United States
CATEGORIES:Calendar Dates
ATTACH;FMTTYPE=image/jpeg:https://thesunnah.org/school/wp-content/uploads/2025/09/Open-House.jpg
ORGANIZER;CN="Madrasatu Ahlis Sunnah":MAILTO:school@thesunnah.org
END:VEVENT
BEGIN:VEVENT
DTSTART;VALUE=DATE:20251212
DTEND;VALUE=DATE:20251213
DTSTAMP:20260421T160400
CREATED:20250904T200213Z
LAST-MODIFIED:20250904T200213Z
UID:4821-1765497600-1765583999@thesunnah.org
SUMMARY:Middle 2nd Marking Period
DESCRIPTION:Middle 2nd Marking Period (69th Day of School). The halfway point of the second grading period. A great time to check progress and stay on track with goals.
URL:https://thesunnah.org/school/event/middle-2nd-marking-period/
LOCATION:School\, 215 North Oraton Pkwy\, East Orange\, NJ\, 07017\, United States
CATEGORIES:Calendar Dates
ATTACH;FMTTYPE=image/jpeg:https://thesunnah.org/school/wp-content/uploads/2025/09/Middle-of-Marking-Period.jpg
ORGANIZER;CN="Madrasatu Ahlis Sunnah":MAILTO:school@thesunnah.org
END:VEVENT
BEGIN:VEVENT
DTSTART;VALUE=DATE:20251203
DTEND;VALUE=DATE:20251204
DTSTAMP:20260421T160400
CREATED:20250902T184550Z
LAST-MODIFIED:20250904T223215Z
UID:4746-1764720000-1764806399@thesunnah.org
SUMMARY:Field Trip #2
DESCRIPTION:Field Trip #2
URL:https://thesunnah.org/school/event/field-trip-2/
LOCATION:NJ
CATEGORIES:Calendar Dates
ATTACH;FMTTYPE=image/jpeg:https://thesunnah.org/school/wp-content/uploads/2025/01/Muslims-students-getting-on-a-bus-1.jpg
ORGANIZER;CN="Madrasatu Ahlis Sunnah":MAILTO:school@thesunnah.org
END:VEVENT
BEGIN:VEVENT
DTSTART;VALUE=DATE:20251114
DTEND;VALUE=DATE:20251115
DTSTAMP:20260421T160400
CREATED:20250902T181643Z
LAST-MODIFIED:20250904T222317Z
UID:4731-1763078400-1763164799@thesunnah.org
SUMMARY:Open House #3
DESCRIPTION:Open House # 3: 1st Marking Period Report Cards. Join us to receive first marking period report cards\, meet teachers\, and discuss student progress. Parents and community members are encouraged to attend and engage with our school community!
URL:https://thesunnah.org/school/event/open-house-3/
LOCATION:School\, 215 North Oraton Pkwy\, East Orange\, NJ\, 07017\, United States
CATEGORIES:Calendar Dates
ATTACH;FMTTYPE=image/jpeg:https://thesunnah.org/school/wp-content/uploads/2025/09/Open-House.jpg
ORGANIZER;CN="Madrasatu Ahlis Sunnah":MAILTO:school@thesunnah.org
END:VEVENT
BEGIN:VEVENT
DTSTART;VALUE=DATE:20251110
DTEND;VALUE=DATE:20251111
DTSTAMP:20260421T160400
CREATED:20250904T222900Z
LAST-MODIFIED:20250904T222900Z
UID:4880-1762732800-1762819199@thesunnah.org
SUMMARY:Begin 2nd Marking Period
DESCRIPTION:Begin 2nd Marking Period — The second grading period starts today. Students begin new assignments and set goals for continued learning and growth.
URL:https://thesunnah.org/school/event/begin-2nd-marking-period/
LOCATION:School\, 215 North Oraton Pkwy\, East Orange\, NJ\, 07017\, United States
CATEGORIES:Calendar Dates
ATTACH;FMTTYPE=image/jpeg:https://thesunnah.org/school/wp-content/uploads/2025/09/Begin-of-Marking-Period.jpg
ORGANIZER;CN="Madrasatu Ahlis Sunnah":MAILTO:school@thesunnah.org
END:VEVENT
BEGIN:VEVENT
DTSTART;VALUE=DATE:20251010
DTEND;VALUE=DATE:20251011
DTSTAMP:20260421T160400
CREATED:20250902T181736Z
LAST-MODIFIED:20250904T214910Z
UID:4730-1760054400-1760140799@thesunnah.org
SUMMARY:Open House #2
DESCRIPTION:1st Marking Period Progress Reports. Join us to meet teachers\, learn about classes and routines\, and register for the school year. Parents and community members are encouraged to attend and engage with our school community!
URL:https://thesunnah.org/school/event/open-house-2/
LOCATION:School\, 215 North Oraton Pkwy\, East Orange\, NJ\, 07017\, United States
CATEGORIES:Calendar Dates
ATTACH;FMTTYPE=image/jpeg:https://thesunnah.org/school/wp-content/uploads/2025/09/Open-House.jpg
ORGANIZER;CN="Madrasatu Ahlis Sunnah":MAILTO:school@thesunnah.org
END:VEVENT
BEGIN:VEVENT
DTSTART;VALUE=DATE:20251006
DTEND;VALUE=DATE:20251007
DTSTAMP:20260421T160400
CREATED:20250902T182039Z
LAST-MODIFIED:20250904T200317Z
UID:4728-1759708800-1759795199@thesunnah.org
SUMMARY:Middle 1st Marking Period
DESCRIPTION:Middle 1st Marking Period (23rd Day of School) The halfway point of the first grading period. A great time to review progress and stay focused on goals.
URL:https://thesunnah.org/school/event/middle-1st-marking-period/
LOCATION:School\, 215 North Oraton Pkwy\, East Orange\, NJ\, 07017\, United States
CATEGORIES:Calendar Dates
ATTACH;FMTTYPE=image/jpeg:https://thesunnah.org/school/wp-content/uploads/2025/09/Middle-of-Marking-Period.jpg
ORGANIZER;CN="Madrasatu Ahlis Sunnah":MAILTO:school@thesunnah.org
END:VEVENT
BEGIN:VEVENT
DTSTART;VALUE=DATE:20251001
DTEND;VALUE=DATE:20251002
DTSTAMP:20260421T160400
CREATED:20250902T173231Z
LAST-MODIFIED:20250930T134701Z
UID:4722-1759276800-1759363199@thesunnah.org
SUMMARY:Field Trip # 1
DESCRIPTION:On October 1st\, early childhood and elementary students will visit the Pumpkin Patch. \nUpdate: Trip cancelled for middle/high school students.
URL:https://thesunnah.org/school/event/field-trip-1/
LOCATION:NJ
CATEGORIES:Calendar Dates
ATTACH;FMTTYPE=image/jpeg:https://thesunnah.org/school/wp-content/uploads/2025/01/Muslims-students-getting-on-a-bus-1.jpg
ORGANIZER;CN="Madrasatu Ahlis Sunnah":MAILTO:school@thesunnah.org
END:VEVENT
BEGIN:VEVENT
DTSTART;TZID=America/New_York:20250904T080000
DTEND;TZID=America/New_York:20250904T154500
DTSTAMP:20260421T160400
CREATED:20250902T172639Z
LAST-MODIFIED:20250904T185315Z
UID:4712-1756972800-1757000700@thesunnah.org
SUMMARY:1st Day of School
DESCRIPTION:Welcome back! The first day of school for students. Get ready for a great year of learning\, friends\, and new experiences.
URL:https://thesunnah.org/school/event/1st-day-of-school/
LOCATION:School\, 215 North Oraton Pkwy\, East Orange\, NJ\, 07017\, United States
CATEGORIES:Calendar Dates
ATTACH;FMTTYPE=image/png:https://thesunnah.org/school/wp-content/uploads/2025/08/Front-of-Building.png
ORGANIZER;CN="Madrasatu Ahlis Sunnah":MAILTO:school@thesunnah.org
END:VEVENT
BEGIN:VEVENT
DTSTART;VALUE=DATE:20250904
DTEND;VALUE=DATE:20250905
DTSTAMP:20260421T160400
CREATED:20250902T172940Z
LAST-MODIFIED:20250904T185659Z
UID:4718-1756944000-1757030399@thesunnah.org
SUMMARY:Open House # 1
DESCRIPTION:Register and Meet Teachers — Join us to register for the school year and meet your teachers. Learn about classes\, routines\, and get ready for a great start!
URL:https://thesunnah.org/school/event/open-house-1/
LOCATION:School\, 215 North Oraton Pkwy\, East Orange\, NJ\, 07017\, United States
CATEGORIES:Calendar Dates
ATTACH;FMTTYPE=image/jpeg:https://thesunnah.org/school/wp-content/uploads/2025/09/Open-House.jpg
ORGANIZER;CN="Madrasatu Ahlis Sunnah":MAILTO:school@thesunnah.org
END:VEVENT
BEGIN:VEVENT
DTSTART;VALUE=DATE:20250904
DTEND;VALUE=DATE:20250905
DTSTAMP:20260421T160400
CREATED:20250902T172748Z
LAST-MODIFIED:20250904T193146Z
UID:4714-1756944000-1757030399@thesunnah.org
SUMMARY:Begin 1st Marking Period
DESCRIPTION:Begin 1st Marking Period — The first grading period of the school year starts today. Stay focused\, set goals\, and make this a strong start!
URL:https://thesunnah.org/school/event/begin-1st-marking-period/
LOCATION:School\, 215 North Oraton Pkwy\, East Orange\, NJ\, 07017\, United States
CATEGORIES:Calendar Dates
ATTACH;FMTTYPE=image/jpeg:https://thesunnah.org/school/wp-content/uploads/2025/09/Begin-of-Marking-Period.jpg
ORGANIZER;CN="Madrasatu Ahlis Sunnah":MAILTO:school@thesunnah.org
END:VEVENT
BEGIN:VEVENT
DTSTART;VALUE=DATE:20250901
DTEND;VALUE=DATE:20250902
DTSTAMP:20260421T160400
CREATED:20250902T172418Z
LAST-MODIFIED:20250904T185101Z
UID:4710-1756684800-1756771199@thesunnah.org
SUMMARY:Teachers Report to Work
DESCRIPTION:All Teachers of Madrasatu Ahlis Sunnah will report to work on Monday\, September 1\, 2025.
URL:https://thesunnah.org/school/event/teachers-report-to-work/
LOCATION:School\, 215 North Oraton Pkwy\, East Orange\, NJ\, 07017\, United States
CATEGORIES:Calendar Dates
ATTACH;FMTTYPE=image/png:https://thesunnah.org/school/wp-content/uploads/2025/09/Teachers-Report-to-Work-.png
ORGANIZER;CN="Madrasatu Ahlis Sunnah":MAILTO:school@thesunnah.org
END:VEVENT
END:VCALENDAR